BEGIN:VCALENDAR
VERSION:2.0
PRODID:-//North Tyneside Art Studio - ECPv6.1.3//NONSGML v1.0//EN
CALSCALE:GREGORIAN
METHOD:PUBLISH
X-WR-CALNAME:North Tyneside Art Studio
X-ORIGINAL-URL:https://northtynesideartstudio.org.uk
X-WR-CALDESC:Events for North Tyneside Art Studio
REFRESH-INTERVAL;VALUE=DURATION:PT1H
X-Robots-Tag:noindex
X-PUBLISHED-TTL:PT1H
BEGIN:VTIMEZONE
TZID:UTC
BEGIN:STANDARD
TZOFFSETFROM:+0000
TZOFFSETTO:+0000
TZNAME:UTC
DTSTART:20250101T000000
END:STANDARD
END:VTIMEZONE
BEGIN:VEVENT
DTSTART;TZID=UTC:20251028T100000
DTEND;TZID=UTC:20251028T150000
DTSTAMP:20260424T191634
CREATED:20251002T104208Z
LAST-MODIFIED:20251002T112205Z
UID:1288-1761645600-1761663600@northtynesideartstudio.org.uk
SUMMARY:Magazine Collage
DESCRIPTION:Create a collaged image using colour palettes from magazines and newspapers.
URL:https://northtynesideartstudio.org.uk/event/magazine-collage/
LOCATION:NTAS II\, The Forum\, Wallsend\, NE28 8JP\, United Kingdom
CATEGORIES:Drop in,Get Creative
ORGANIZER;CN="North%20Tyneside%20Art%20Studio":MAILTO:jess.ntartstudio@gmail.com
END:VEVENT
END:VCALENDAR