BEGIN:VCALENDAR
VERSION:2.0
PRODID:-//North Tyneside Art Studio - ECPv6.1.3//NONSGML v1.0//EN
CALSCALE:GREGORIAN
METHOD:PUBLISH
X-WR-CALNAME:North Tyneside Art Studio
X-ORIGINAL-URL:https://northtynesideartstudio.org.uk
X-WR-CALDESC:Events for North Tyneside Art Studio
REFRESH-INTERVAL;VALUE=DURATION:PT1H
X-Robots-Tag:noindex
X-PUBLISHED-TTL:PT1H
BEGIN:VTIMEZONE
TZID:UTC
BEGIN:STANDARD
TZOFFSETFROM:+0000
TZOFFSETTO:+0000
TZNAME:UTC
DTSTART:20220101T000000
END:STANDARD
END:VTIMEZONE
BEGIN:VEVENT
DTSTART;TZID=UTC:20220818T110000
DTEND;TZID=UTC:20220818T150000
DTSTAMP:20260424T120145
CREATED:20220728T150328Z
LAST-MODIFIED:20220728T150328Z
UID:866-1660820400-1660834800@northtynesideartstudio.org.uk
SUMMARY:Bookmaking
DESCRIPTION:Make and decorate  your own mini wildlife book using the cover and scarpet pages of the Lindisfarne Gospels to inspire you!
URL:https://northtynesideartstudio.org.uk/event/bookmaking/
LOCATION:Stephenson Steam Railway\, Middle Engine Lane\, Wallsend\, NE298DX\, United Kingdom
CATEGORIES:Drop in,Family Friendly,Get Creative
END:VEVENT
BEGIN:VEVENT
DTSTART;TZID=UTC:20220815T110000
DTEND;TZID=UTC:20220815T150000
DTSTAMP:20260424T120145
CREATED:20220728T145839Z
LAST-MODIFIED:20220728T145839Z
UID:859-1660561200-1660575600@northtynesideartstudio.org.uk
SUMMARY:Roman Gods and Goddesses
DESCRIPTION:Romans worshipped different gods and goddesses.  You can often identify Roman gods and goddesses by the things they carry or wear.  Try making your own Roman god or goddess crown and staff.
URL:https://northtynesideartstudio.org.uk/event/roman-gods-and-goddesses/
CATEGORIES:Drop in,Family Friendly,Get Creative
END:VEVENT
BEGIN:VEVENT
DTSTART;TZID=UTC:20220815T110000
DTEND;TZID=UTC:20220815T150000
DTSTAMP:20260424T120145
CREATED:20220728T145220Z
LAST-MODIFIED:20220728T145220Z
UID:855-1660561200-1660575600@northtynesideartstudio.org.uk
SUMMARY:Roman Clay
DESCRIPTION:Try making your own Roman coin or a portrait of Hadrian out of Clay
URL:https://northtynesideartstudio.org.uk/event/roman-clay/
LOCATION:Segedunum Roman Fort and Museum\, Buddle Street\, Wallsend\, Tyne and Wear\, NE28 6HR\, United Kingdom
CATEGORIES:Drop in,Family Friendly,Get Creative
END:VEVENT
BEGIN:VEVENT
DTSTART;TZID=UTC:20220811T110000
DTEND;TZID=UTC:20220811T150000
DTSTAMP:20260424T120145
CREATED:20220728T150217Z
LAST-MODIFIED:20220728T150217Z
UID:864-1660215600-1660230000@northtynesideartstudio.org.uk
SUMMARY:Puppet Making
DESCRIPTION:At our train station we have different people who work here.  Design and create your own train driver puppet.
URL:https://northtynesideartstudio.org.uk/event/puppet-making/
LOCATION:Stephenson Steam Railway\, Middle Engine Lane\, Wallsend\, NE298DX\, United Kingdom
CATEGORIES:Drop in,Family Friendly,Get Creative
END:VEVENT
BEGIN:VEVENT
DTSTART;TZID=UTC:20220804T110000
DTEND;TZID=UTC:20220804T150000
DTSTAMP:20260424T120145
CREATED:20220728T150104Z
LAST-MODIFIED:20220728T150104Z
UID:861-1659610800-1659625200@northtynesideartstudio.org.uk
SUMMARY:Animal Masks
DESCRIPTION:Different animals live in the countryside next to our train track.  Have a got at making your own animal mask of one of the animals that might be living nearby.
URL:https://northtynesideartstudio.org.uk/event/animal-masks/
LOCATION:Stephenson Steam Railway\, Middle Engine Lane\, Wallsend\, NE298DX\, United Kingdom
CATEGORIES:Drop in,Family Friendly,Get Creative
END:VEVENT
BEGIN:VEVENT
DTSTART;TZID=UTC:20220108T110000
DTEND;TZID=UTC:20220801T150000
DTSTAMP:20260424T120145
CREATED:20220728T143618Z
LAST-MODIFIED:20220728T154047Z
UID:843-1641639600-1659366000@northtynesideartstudio.org.uk
SUMMARY:Mini Mosaic
DESCRIPTION:Make your own Mini Mosaic with artist Simon Terry.
URL:https://northtynesideartstudio.org.uk/event/mini-mosaic/
LOCATION:Segedunum Roman Fort and Museum\, Buddle Street\, Wallsend\, Tyne and Wear\, NE28 6HR\, United Kingdom
CATEGORIES:Drop in,Family Friendly,Get Creative
END:VEVENT
END:VCALENDAR